BEGIN:VCALENDAR
VERSION:2.0
PRODID:-//boldchurch.org - ECPv6.15.17//NONSGML v1.0//EN
CALSCALE:GREGORIAN
METHOD:PUBLISH
X-ORIGINAL-URL:https://boldchurch.org
X-WR-CALDESC:Events for boldchurch.org
REFRESH-INTERVAL;VALUE=DURATION:PT1H
X-Robots-Tag:noindex
X-PUBLISHED-TTL:PT1H
BEGIN:VTIMEZONE
TZID:America/New_York
BEGIN:DAYLIGHT
TZOFFSETFROM:-0500
TZOFFSETTO:-0400
TZNAME:EDT
DTSTART:20220313T070000
END:DAYLIGHT
BEGIN:STANDARD
TZOFFSETFROM:-0400
TZOFFSETTO:-0500
TZNAME:EST
DTSTART:20221106T060000
END:STANDARD
BEGIN:DAYLIGHT
TZOFFSETFROM:-0500
TZOFFSETTO:-0400
TZNAME:EDT
DTSTART:20230312T070000
END:DAYLIGHT
BEGIN:STANDARD
TZOFFSETFROM:-0400
TZOFFSETTO:-0500
TZNAME:EST
DTSTART:20231105T060000
END:STANDARD
BEGIN:DAYLIGHT
TZOFFSETFROM:-0500
TZOFFSETTO:-0400
TZNAME:EDT
DTSTART:20240310T070000
END:DAYLIGHT
BEGIN:STANDARD
TZOFFSETFROM:-0400
TZOFFSETTO:-0500
TZNAME:EST
DTSTART:20241103T060000
END:STANDARD
END:VTIMEZONE
BEGIN:VEVENT
DTSTART;VALUE=DATE:20231117
DTEND;VALUE=DATE:20231120
DTSTAMP:20260423T032146
CREATED:20230113T215200Z
LAST-MODIFIED:20231013T223435Z
UID:10000208-1700179200-1700438399@boldchurch.org
SUMMARY:Men's Retreat
DESCRIPTION:Men of God\, \nJoin us in seeking God for PROVISION\, PROSPERITY\, AND FAVOR! \nWe thank God that He is a present help in time of trouble.  We know that many are the afflictions of the righteous but the Lord delivers us out of them all.  God is so MUCH GREATER!!! God is so good that He doesn’t want us to just to live from crisis to crisis. God is so good that He wants us to believe Him for better than just getting out of trouble.  What about believing Him for the provision of our covenant.  With blessings\, I will bless thee… PROVISION\, PROSPERITY\, AND FAVOR BELONGS TO THE PEOPLE OF GOD. \n  \n\n\nThe cost of this event is $250  for the full event and includes a $50 non-refundable deposit. If you choose  the payment plan\, full payment is due by November 13\, 2023. \n  \nWHO: Men age 18+ \nWHAT: Men’s Retreat \nWHEN: November 17-18\, 2023* \nWHERE: The Cove\, Asheville\, NC \n*Check out Sun\, Nov 19th \n  \nRegister Now\n 
URL:https://boldchurch.org/event/mens-retreat/
LOCATION:The Cove\, 1 Porters Cove Road\, Asheville\, NC\, 28805\, United States
CATEGORIES:Calendar
ATTACH;FMTTYPE=image/png:https://boldchurch.org/wp-content/uploads/2023/10/mens-retreat-speakers-eblast.png
END:VEVENT
END:VCALENDAR