BEGIN:VCALENDAR
VERSION:2.0
PRODID:-//boldchurch.org - ECPv6.15.17//NONSGML v1.0//EN
CALSCALE:GREGORIAN
METHOD:PUBLISH
X-WR-CALNAME:boldchurch.org
X-ORIGINAL-URL:https://boldchurch.org
X-WR-CALDESC:Events for boldchurch.org
REFRESH-INTERVAL;VALUE=DURATION:PT1H
X-Robots-Tag:noindex
X-PUBLISHED-TTL:PT1H
BEGIN:VTIMEZONE
TZID:America/New_York
BEGIN:DAYLIGHT
TZOFFSETFROM:-0500
TZOFFSETTO:-0400
TZNAME:EDT
DTSTART:20250309T070000
END:DAYLIGHT
BEGIN:STANDARD
TZOFFSETFROM:-0400
TZOFFSETTO:-0500
TZNAME:EST
DTSTART:20251102T060000
END:STANDARD
BEGIN:DAYLIGHT
TZOFFSETFROM:-0500
TZOFFSETTO:-0400
TZNAME:EDT
DTSTART:20260308T070000
END:DAYLIGHT
BEGIN:STANDARD
TZOFFSETFROM:-0400
TZOFFSETTO:-0500
TZNAME:EST
DTSTART:20261101T060000
END:STANDARD
BEGIN:DAYLIGHT
TZOFFSETFROM:-0500
TZOFFSETTO:-0400
TZNAME:EDT
DTSTART:20270314T070000
END:DAYLIGHT
BEGIN:STANDARD
TZOFFSETFROM:-0400
TZOFFSETTO:-0500
TZNAME:EST
DTSTART:20271107T060000
END:STANDARD
END:VTIMEZONE
BEGIN:VEVENT
DTSTART;VALUE=DATE:20260730
DTEND;VALUE=DATE:20260802
DTSTAMP:20260423T014656
CREATED:20251203T203002Z
LAST-MODIFIED:20251203T203714Z
UID:10000478-1785369600-1785628799@boldchurch.org
SUMMARY:Women's Retreat 2026
DESCRIPTION:God is a God of successive GOODNESS! \nSuccessive means existing or occurring one after another without a break.  And that is exactly how God moves—He has a successive history of goodness toward His children—goodness upon goodness\, grace upon grace. With God\, there is always a THIS TIME! \nSo—are you ready for what God will do THIS TIME in your life? Our God is preparing to perform mighty acts on behalf of His children and to reveal His successive goodness. THIS TIME\, when God blesses you\, there will be no question about where it came from—everyone will know it was ALL GOD! \nBut just as God has a THIS TIME for you\, what is your THIS TIME for God? Every one of us has a THIS TIME\, Lord—our surrender\, our offering\, our yes—that we bring to Him! \nCome explore this divine invitation and experience impartation and revelation for your life… THIS TIME! \n\nAgenda \n\nThursday\, July 30\, 2026 – Breakout Sessions and Opening General Session\nFriday\, July 31\, 2026 – Breakout Sessions and Morning General Session\nFriday\, July 31\, 2026 – Breakout Sessions and Evening General Session\nSaturday\, August 1\, 2026* – Breakout Sessions and Closing General Session\n\n  \n*The  check out time for all Full Retreat Experience guests is 11:00 a.m. on Saturday\, August 1\, 2026. You will be given time to check out prior to the general session.  \nREGISTER NOW\n  \n\nAge Requirement\nAll attendees must be age 18 or older to attend. \nFee Policy\nThe cost of this event is $349.00 for the full experience and $149.00 to attend only general sessions. A non-refundable deposit of $99.00 is required to register. All balances must be settled by June 29\, 2026.  No refunds after June 15\, 2026. \nWellness Policy\nThe health and safety of all guests and staff are our highest priority. To help us maintain a safe and healthy environment: \nIf you have any cold\, flu-like\, fever\, or COVID-related symptoms of any kind\, please exercise caution and do not attend. \n  \n\n  \nEach year at the BOLD Women’s Retreat\, women from different parts of the country come together to seek an encounter with our Lord.  The BOLD Women’s Retreat is a spirit-filled move of God that focuses on delivering a timely word to all the women of God who attend.  For three days\, women steal away to hear from God at Myrtle Beach\, South Carolina\, away from all of the noise and distractions of everyday life.  This three-day conference is packed with the Word of God through the teachings of dynamic speakers from various parts of the country.  It is a time of refreshing\, rebuilding\, reigniting\, and activating for the women who attend. \n  \nEach year\, the BOLD Women’s Retreat has a God-inspired theme meant to deliver a well-timed message to all the women that attend. \n  \nThis conference is open to the public and hosted as an off-site retreat; attendance fees apply.
URL:https://boldchurch.org/event/womens-retreat/
LOCATION:Grandover Resort & Spa\, 1000 Club Road\, Greensboro\, NC\, 27407\, United States
CATEGORIES:Calendar,Conferences & Events
ATTACH;FMTTYPE=image/png:https://boldchurch.org/wp-content/uploads/2025/12/WR26-Media-Presentation.png
END:VEVENT
END:VCALENDAR