BEGIN:VCALENDAR
VERSION:2.0
PRODID:-//boldchurch.org - ECPv6.15.17//NONSGML v1.0//EN
CALSCALE:GREGORIAN
METHOD:PUBLISH
X-WR-CALNAME:boldchurch.org
X-ORIGINAL-URL:https://boldchurch.org
X-WR-CALDESC:Events for boldchurch.org
REFRESH-INTERVAL;VALUE=DURATION:PT1H
X-Robots-Tag:noindex
X-PUBLISHED-TTL:PT1H
BEGIN:VTIMEZONE
TZID:America/New_York
BEGIN:DAYLIGHT
TZOFFSETFROM:-0500
TZOFFSETTO:-0400
TZNAME:EDT
DTSTART:20190310T070000
END:DAYLIGHT
BEGIN:STANDARD
TZOFFSETFROM:-0400
TZOFFSETTO:-0500
TZNAME:EST
DTSTART:20191103T060000
END:STANDARD
BEGIN:DAYLIGHT
TZOFFSETFROM:-0500
TZOFFSETTO:-0400
TZNAME:EDT
DTSTART:20200308T070000
END:DAYLIGHT
BEGIN:STANDARD
TZOFFSETFROM:-0400
TZOFFSETTO:-0500
TZNAME:EST
DTSTART:20201101T060000
END:STANDARD
BEGIN:DAYLIGHT
TZOFFSETFROM:-0500
TZOFFSETTO:-0400
TZNAME:EDT
DTSTART:20210314T070000
END:DAYLIGHT
BEGIN:STANDARD
TZOFFSETFROM:-0400
TZOFFSETTO:-0500
TZNAME:EST
DTSTART:20211107T060000
END:STANDARD
BEGIN:DAYLIGHT
TZOFFSETFROM:-0500
TZOFFSETTO:-0400
TZNAME:EDT
DTSTART:20220313T070000
END:DAYLIGHT
BEGIN:STANDARD
TZOFFSETFROM:-0400
TZOFFSETTO:-0500
TZNAME:EST
DTSTART:20221106T060000
END:STANDARD
BEGIN:DAYLIGHT
TZOFFSETFROM:-0500
TZOFFSETTO:-0400
TZNAME:EDT
DTSTART:20230312T070000
END:DAYLIGHT
BEGIN:STANDARD
TZOFFSETFROM:-0400
TZOFFSETTO:-0500
TZNAME:EST
DTSTART:20231105T060000
END:STANDARD
BEGIN:DAYLIGHT
TZOFFSETFROM:-0500
TZOFFSETTO:-0400
TZNAME:EDT
DTSTART:20240310T070000
END:DAYLIGHT
BEGIN:STANDARD
TZOFFSETFROM:-0400
TZOFFSETTO:-0500
TZNAME:EST
DTSTART:20241103T060000
END:STANDARD
BEGIN:DAYLIGHT
TZOFFSETFROM:-0500
TZOFFSETTO:-0400
TZNAME:EDT
DTSTART:20250309T070000
END:DAYLIGHT
BEGIN:STANDARD
TZOFFSETFROM:-0400
TZOFFSETTO:-0500
TZNAME:EST
DTSTART:20251102T060000
END:STANDARD
BEGIN:DAYLIGHT
TZOFFSETFROM:-0500
TZOFFSETTO:-0400
TZNAME:EDT
DTSTART:20260308T070000
END:DAYLIGHT
BEGIN:STANDARD
TZOFFSETFROM:-0400
TZOFFSETTO:-0500
TZNAME:EST
DTSTART:20261101T060000
END:STANDARD
BEGIN:DAYLIGHT
TZOFFSETFROM:-0500
TZOFFSETTO:-0400
TZNAME:EDT
DTSTART:20270314T070000
END:DAYLIGHT
BEGIN:STANDARD
TZOFFSETFROM:-0400
TZOFFSETTO:-0500
TZNAME:EST
DTSTART:20271107T060000
END:STANDARD
END:VTIMEZONE
BEGIN:VTIMEZONE
TZID:UTC
BEGIN:STANDARD
TZOFFSETFROM:+0000
TZOFFSETTO:+0000
TZNAME:UTC
DTSTART:20190101T000000
END:STANDARD
END:VTIMEZONE
BEGIN:VEVENT
DTSTART;TZID=America/New_York:20260420T183000
DTEND;TZID=America/New_York:20260420T200000
DTSTAMP:20260423T032012
CREATED:20260311T193630Z
LAST-MODIFIED:20260318T173458Z
UID:10000547-1776709800-1776715200@boldchurch.org
SUMMARY:Men's Bible Study
DESCRIPTION:Men: It’s time to realign our mind\, heart\, speech\, and actions with “The Standard” of Christ. \n“Trust in the Lord with all your heart and lean not on your own understanding; in all your ways submit to Him\, and He will make your paths straight.” Proverbs 3:5-6 NIV \nGod has already set the standard for how we live\, lead\, and grow. Join us on Monday\, April 20th at 6:30 p.m.\, as we dive into what it truly means to trust Him fully and walk in His direction. \n  \nFor men age 18 and older. \nNursery\, Children’s Church\, and Youth services will not be available.
URL:https://boldchurch.org/event/mens-bible-study-4/
LOCATION:BOLD Church®\, 2735 West Arrowood Road\, Charlotte\, NC\, 28273\, United States
CATEGORIES:Calendar
END:VEVENT
BEGIN:VEVENT
DTSTART;VALUE=DATE:20250717
DTEND;VALUE=DATE:20250720
DTSTAMP:20260423T032012
CREATED:20220829T211921Z
LAST-MODIFIED:20251203T202714Z
UID:10000001-1752710400-1752969599@boldchurch.org
SUMMARY:Women's Retreat 2025
DESCRIPTION:The theme for Women’s Retreat 2025\, “She Got Nexxt\,” is a call to break through barriers and reach new heights. This year\, instead of room ministry\, we will have dynamic breakout sessions alongside our corporate sessions\, and you get to choose your roommate. \nLet’s take it to the next level and BREAK THROUGH to our Nexxt! As the prophetess said at Women’s Retreat 2024\, “It may have taken us twice as long\, but we are getting there.” \nDon’t miss out on these incredible ministry sessions. Click the button below to register or learn more about Women’s Retreat 2025. \n  \nThe cost of this event is $349 for the full retreat experience and $149 to attend only the corporate sessions.  If you choose a payment plan\, full payment is due by June 19\, 2025. \n  \n\n  \nClick here to register. \nRegister\n  \n\nAgenda \nJuly 17\, 2025- Thursday Evening Breakout Sessions and Opening Corporate Session\nJuly 18\, 2025- Friday Morning Breakout Sessions and Corporate Session\nJuly 18\, 2025- Friday Evening Breakout Sessions and Corporate Session\nJuly 19\, 2025- Saturday Morning Breakout Session and Closing Corporate Session \n  \n*Saturday\, July 19\, 2025 – 11:00 a.m. Resort Check Out Time \n\n  \n  \n  \nEach year at the BOLD Women’s Retreat\, women from different parts of the country come together to seek an encounter with our Lord.  The BOLD Women’s Retreat is a spirit-filled move of God that focuses on delivering a timely word to all the women of God who attend.  For three days\, women steal away to hear from God at Myrtle Beach\, South Carolina\, away from all of the noise and distractions of everyday life.  This three-day conference is packed with the Word of God through the teachings of dynamic speakers from various parts of the country.  It is a time of refreshing\, rebuilding\, reigniting\, and activating for the women who attend. \n  \nEach year\, the BOLD Women’s Retreat has a God-inspired theme meant to deliver a well-timed message to all the women that attend. \n  \nThis conference is open to the public and hosted as an off-site retreat; attendance fees apply.
URL:https://boldchurch.org/event/womens-retreat25/
LOCATION:Grandover Resort & Spa\, 1000 Club Road\, Greensboro\, NC\, 27407\, United States
CATEGORIES:Calendar,Conferences & Events
ATTACH;FMTTYPE=image/png:https://boldchurch.org/wp-content/uploads/2024/12/wr2025-revised-01162025.png
END:VEVENT
BEGIN:VEVENT
DTSTART;TZID=America/New_York:20250426T073000
DTEND;TZID=America/New_York:20250426T110000
DTSTAMP:20260423T032012
CREATED:20250328T230727Z
LAST-MODIFIED:20250328T230727Z
UID:10000445-1745652600-1745665200@boldchurch.org
SUMMARY:Feet to Faith 5K
DESCRIPTION:Join Us for Feet to Faith 5K 2025 – “Fit for His Use”! \nGet ready to move with purpose and run/walk with faith! \nWe’re thrilled to invite you to Feet to Faith 5K 2025\, happening on April 26\, 2025\, at Ayrsley Grand Cinema. \nThis year’s theme\, “Fit for His Use\,” reminds us to be faithful stewards of our bodies—physically fit and ready to be used for great works in the name of Jesus. Whether you’re walking\, jogging\, or running\, every step you take is a step toward becoming a stronger vessel for His kingdom. \nWe are FIT for HIS Use! \nEvent Details:\n📅 Date: Saturday\, April 26\, 2025\n📍 Location: Ayrsley Grand Cinema\n⏰ Registration: Opens at 7:30 AM\n🏁 Race Start: 8:30 AM \n🏅 Medals for all finishers & special awards for top finishers in each age group! \nThis is an event for all ages! Minors must be accompanied by an adult. \nWe can’t wait to see you there—let’s move in faith together! \n  \nRegister Now\n  \n  \n 
URL:https://boldchurch.org/event/feet-to-faith-5k/
LOCATION:BOLD Church®\, 2735 West Arrowood Road\, Charlotte\, NC\, 28273\, United States
CATEGORIES:Calendar
ATTACH;FMTTYPE=image/png:https://boldchurch.org/wp-content/uploads/2025/03/Fit-for-His-Use-5K-2025-media.png
END:VEVENT
BEGIN:VEVENT
DTSTART;TZID=America/New_York:20250406T133000
DTEND;TZID=America/New_York:20250406T143000
DTSTAMP:20260423T032012
CREATED:20250318T204118Z
LAST-MODIFIED:20250318T204118Z
UID:10000444-1743946200-1743949800@boldchurch.org
SUMMARY:Young Adult Fitness Boot Camp
DESCRIPTION:Are you ready to challenge yourself\, build strength\, and grow in fellowship? Join us for an exciting Burn Boot Camp fitness event on Sunday\, April 6th at 1:30 p.m. Whether you are coming off the couch\, or a regular in the gym\, all fitness levels are welcome! \nLet’s honor God with our health! Bring your energy\, a water bottle\, and a heart ready for a challenge. \nThis event is for individuals age 18-42\, but all adults are welcome to join us. \nSign Up\nRegistration required! \n  \n  \n 
URL:https://boldchurch.org/event/young-adult-fitness-boot-camp/
LOCATION:Burn Boot Camp Steele Creek\, 2101 Cambridge Beltway Dr\, Charlotte\, NC\, 28273
CATEGORIES:Calendar
ATTACH;FMTTYPE=image/png:https://boldchurch.org/wp-content/uploads/2025/03/burn-boot-camp-media.png
END:VEVENT
BEGIN:VEVENT
DTSTART;VALUE=DATE:20240708
DTEND;VALUE=DATE:20240712
DTSTAMP:20260423T032012
CREATED:20231003T223756Z
LAST-MODIFIED:20240322T192358Z
UID:10000274-1720396800-1720742399@boldchurch.org
SUMMARY:Camp JC 2024
DESCRIPTION:Camp JC 2024: I Got My Confidence Back\n\n\n\n\n\n\n\n\n\n\n\n\n\n\nLife has a way of trying to chip away at our confidence\, even at an early age. Don’t underestimate how many things attack your kids confidence!  Last year we left the mountain with our confidence and faith in Christ renewed and restored. \nThis year we are coming to build on that work! Confidence in Christ is the key to a solid walk of faith. Send your kids to Camp JC 2024: I GOT MY CONFIDENCE BACK!\n\n\n\n\n\n\n\n  \nAge Requirement: A camper must between the ages of 7 and 18 to attend. \nFee Policy: The cost of this event is $250.00. A non-refundable deposit of $50.00 is required to register. All balances must be settled by June 30\, 2024. No refunds after May 15\, 2024. This fee includes conference materials\, meals\, and shared accommodations for three nights. Transportation is not provided. \n  \nREGISTER
URL:https://boldchurch.org/event/camp-jc-2024/
LOCATION:YMCA Blue Ridge Assembly\, 84 Blue Ridge Assembly Dr\, Black Mountain\, NC\, 28711\, United States
CATEGORIES:Calendar,Conferences & Events
ATTACH;FMTTYPE=image/png:https://boldchurch.org/wp-content/uploads/2023/10/Camp-JC-2024-pool-mediaX.png
END:VEVENT
BEGIN:VEVENT
DTSTART;VALUE=DATE:20211105
DTEND;VALUE=DATE:20211107
DTSTAMP:20260423T032012
CREATED:20190405T215013Z
LAST-MODIFIED:20220716T230356Z
UID:10000169-1636070400-1636243199@boldchurch.org
SUMMARY:P.U.S.H. II
DESCRIPTION:P.U.S.H. stands for “PRAY UNTIL SOMETHING HAPPENS!”  This prayer conference is designed to provoke all believers into a powerful prayer life.  We believe God and take Him at His word that when we ask\, we shall receive of Him.  The teaching and preaching during this conference are focused on reaching higher heights in prayer. The God-inspired teachings during P.U.S.H. provoke Christians to deeper and more fervent prayer. \nWhile BOLD Church® has prayer classes throughout the year\, the P.U.S.H. Conference is open to the public and is intended to propel attendees into a praying on a higher level. Each year P.U.S.H. has a God-inspired theme meant to deliver a timely message to all those who attend and to help provoke more believers to a life of prayer. \nThis conference is open to the public and free to all. \n 
URL:https://boldchurch.org/event/push/
LOCATION:BOLD Church®\, 2735 West Arrowood Road\, Charlotte\, NC\, 28273\, United States
END:VEVENT
BEGIN:VEVENT
DTSTART;TZID=America/New_York:20210425T110000
DTEND;TZID=America/New_York:20210425T130000
DTSTAMP:20260423T032012
CREATED:20210304T184154Z
LAST-MODIFIED:20210316T181030Z
UID:10000124-1619348400-1619355600@boldchurch.org
SUMMARY:Any Given Sunday
DESCRIPTION:On Any Given Sunday your heart can be changed! On Any Given Sunday you can be delivered or set free! On Any Given Sunday you can accept Jesus Christ or rededicate your life to Him. On Any Given Sunday\, your life could change! \n\nPlease join us for our Spring outdoor service on Sunday\, April 25th at 11 a.m. on our back parking lot. Masks are required and COVID-19 guidelines will be followed. \nRegistration is required. \n\n\n\n\nRegister Now!
URL:https://boldchurch.org/event/any-given-sunday/
LOCATION:2735 West Arrowood Road\, Charlotte\, NC\, 28273\, United States
CATEGORIES:Calendar
ATTACH;FMTTYPE=image/png:https://boldchurch.org/wp-content/uploads/2021/03/ANY-GIVEN-SUNDAY.png
END:VEVENT
BEGIN:VEVENT
DTSTART;TZID=America/New_York:20210110T083000
DTEND;TZID=America/New_York:20210110T100000
DTSTAMP:20260423T032012
CREATED:20201114T011006Z
LAST-MODIFIED:20201204T201922Z
UID:10000082-1610267400-1610272800@boldchurch.org
SUMMARY:Mental Health Awareness
DESCRIPTION:Sundays \n08:30 am to 10:00 am \nJoin us for Sunday morning worship\, live on YouTube at 8:30 a.m.\nhttps://www.youtube.com/c/boldchurchinc \nTake back December! We declare December as Mental Health Awareness month. We say no depression\, no isolation\, no loneliness\, no fear\, no heartache\, no sorrow\, no grief!!! We decree joy\, happiness\, peace\, energy\, excitement\, hope\, faith\, and love\, and it shall be established by the light of God’s favor!
URL:https://boldchurch.org/event/mental-health-awareness-2/2021-01-10/
LOCATION:Live Stream\, Charlotte\, NC\, United States
CATEGORIES:Calendar
ATTACH;FMTTYPE=image/jpeg:https://boldchurch.org/wp-content/uploads/2020/11/Mental-Health_Slide2.jpg
END:VEVENT
BEGIN:VEVENT
DTSTART;TZID=America/New_York:20210106T183000
DTEND;TZID=America/New_York:20210106T193000
DTSTAMP:20260423T032012
CREATED:20201114T005835Z
LAST-MODIFIED:20201204T202108Z
UID:10000186-1609957800-1609961400@boldchurch.org
SUMMARY:Mental Health Awareness
DESCRIPTION:Wednesdays\n06:30 pm to 07:30 pm \nJoin us for Bible Study\, live on YouTube at 6:30 p.m.\nhttps://www.youtube.com/c/boldchurchinc \nTake back December! We declare December as Mental Health Awareness month. We say no depression\, no isolation\, no loneliness\, no fear\, no heartache\, no sorrow\, no grief!!! We decree joy\, happiness\, peace\, energy\, excitement\, hope\, faith\, and love\, and it shall be established by the light of God’s favor!
URL:https://boldchurch.org/event/mental-health-awareness/2021-01-06/
LOCATION:Live Stream\, Charlotte\, NC\, United States
CATEGORIES:Calendar
ATTACH;FMTTYPE=image/jpeg:https://boldchurch.org/wp-content/uploads/2020/11/Mental-Health_Slide2.jpg
END:VEVENT
BEGIN:VEVENT
DTSTART;TZID=America/New_York:20210103T083000
DTEND;TZID=America/New_York:20210103T100000
DTSTAMP:20260423T032012
CREATED:20201114T011006Z
LAST-MODIFIED:20201204T201922Z
UID:10000081-1609662600-1609668000@boldchurch.org
SUMMARY:Mental Health Awareness
DESCRIPTION:Sundays \n08:30 am to 10:00 am \nJoin us for Sunday morning worship\, live on YouTube at 8:30 a.m.\nhttps://www.youtube.com/c/boldchurchinc \nTake back December! We declare December as Mental Health Awareness month. We say no depression\, no isolation\, no loneliness\, no fear\, no heartache\, no sorrow\, no grief!!! We decree joy\, happiness\, peace\, energy\, excitement\, hope\, faith\, and love\, and it shall be established by the light of God’s favor!
URL:https://boldchurch.org/event/mental-health-awareness-2/2021-01-03/
LOCATION:Live Stream\, Charlotte\, NC\, United States
CATEGORIES:Calendar
ATTACH;FMTTYPE=image/jpeg:https://boldchurch.org/wp-content/uploads/2020/11/Mental-Health_Slide2.jpg
END:VEVENT
BEGIN:VEVENT
DTSTART;TZID=America/New_York:20201230T183000
DTEND;TZID=America/New_York:20201230T193000
DTSTAMP:20260423T032012
CREATED:20201114T005835Z
LAST-MODIFIED:20201204T202108Z
UID:10000185-1609353000-1609356600@boldchurch.org
SUMMARY:Mental Health Awareness
DESCRIPTION:Wednesdays\n06:30 pm to 07:30 pm \nJoin us for Bible Study\, live on YouTube at 6:30 p.m.\nhttps://www.youtube.com/c/boldchurchinc \nTake back December! We declare December as Mental Health Awareness month. We say no depression\, no isolation\, no loneliness\, no fear\, no heartache\, no sorrow\, no grief!!! We decree joy\, happiness\, peace\, energy\, excitement\, hope\, faith\, and love\, and it shall be established by the light of God’s favor!
URL:https://boldchurch.org/event/mental-health-awareness/2020-12-30/
LOCATION:Live Stream\, Charlotte\, NC\, United States
CATEGORIES:Calendar
ATTACH;FMTTYPE=image/jpeg:https://boldchurch.org/wp-content/uploads/2020/11/Mental-Health_Slide2.jpg
END:VEVENT
BEGIN:VEVENT
DTSTART;TZID=America/New_York:20201227T083000
DTEND;TZID=America/New_York:20201227T100000
DTSTAMP:20260423T032012
CREATED:20201114T011006Z
LAST-MODIFIED:20201204T201922Z
UID:10000080-1609057800-1609063200@boldchurch.org
SUMMARY:Mental Health Awareness
DESCRIPTION:Sundays \n08:30 am to 10:00 am \nJoin us for Sunday morning worship\, live on YouTube at 8:30 a.m.\nhttps://www.youtube.com/c/boldchurchinc \nTake back December! We declare December as Mental Health Awareness month. We say no depression\, no isolation\, no loneliness\, no fear\, no heartache\, no sorrow\, no grief!!! We decree joy\, happiness\, peace\, energy\, excitement\, hope\, faith\, and love\, and it shall be established by the light of God’s favor!
URL:https://boldchurch.org/event/mental-health-awareness-2/2020-12-27/
LOCATION:Live Stream\, Charlotte\, NC\, United States
CATEGORIES:Calendar
ATTACH;FMTTYPE=image/jpeg:https://boldchurch.org/wp-content/uploads/2020/11/Mental-Health_Slide2.jpg
END:VEVENT
BEGIN:VEVENT
DTSTART;TZID=America/New_York:20201223T183000
DTEND;TZID=America/New_York:20201223T193000
DTSTAMP:20260423T032012
CREATED:20201114T005835Z
LAST-MODIFIED:20201204T202108Z
UID:10000184-1608748200-1608751800@boldchurch.org
SUMMARY:Mental Health Awareness
DESCRIPTION:Wednesdays\n06:30 pm to 07:30 pm \nJoin us for Bible Study\, live on YouTube at 6:30 p.m.\nhttps://www.youtube.com/c/boldchurchinc \nTake back December! We declare December as Mental Health Awareness month. We say no depression\, no isolation\, no loneliness\, no fear\, no heartache\, no sorrow\, no grief!!! We decree joy\, happiness\, peace\, energy\, excitement\, hope\, faith\, and love\, and it shall be established by the light of God’s favor!
URL:https://boldchurch.org/event/mental-health-awareness/2020-12-23/
LOCATION:Live Stream\, Charlotte\, NC\, United States
CATEGORIES:Calendar
ATTACH;FMTTYPE=image/jpeg:https://boldchurch.org/wp-content/uploads/2020/11/Mental-Health_Slide2.jpg
END:VEVENT
BEGIN:VEVENT
DTSTART;TZID=America/New_York:20201220T083000
DTEND;TZID=America/New_York:20201220T100000
DTSTAMP:20260423T032012
CREATED:20201114T011006Z
LAST-MODIFIED:20201204T201922Z
UID:10000079-1608453000-1608458400@boldchurch.org
SUMMARY:Mental Health Awareness
DESCRIPTION:Sundays \n08:30 am to 10:00 am \nJoin us for Sunday morning worship\, live on YouTube at 8:30 a.m.\nhttps://www.youtube.com/c/boldchurchinc \nTake back December! We declare December as Mental Health Awareness month. We say no depression\, no isolation\, no loneliness\, no fear\, no heartache\, no sorrow\, no grief!!! We decree joy\, happiness\, peace\, energy\, excitement\, hope\, faith\, and love\, and it shall be established by the light of God’s favor!
URL:https://boldchurch.org/event/mental-health-awareness-2/2020-12-20/
LOCATION:Live Stream\, Charlotte\, NC\, United States
CATEGORIES:Calendar
ATTACH;FMTTYPE=image/jpeg:https://boldchurch.org/wp-content/uploads/2020/11/Mental-Health_Slide2.jpg
END:VEVENT
BEGIN:VEVENT
DTSTART;VALUE=DATE:20201105
DTEND;VALUE=DATE:20201108
DTSTAMP:20260423T032012
CREATED:20190405T214301Z
LAST-MODIFIED:20200626T125647Z
UID:10000168-1604534400-1604793599@boldchurch.org
SUMMARY:Seekers Conference
DESCRIPTION:Seekers Conference is a ministry event for those whose hearts are hungry for God and respond to the call in Psalms 27:8:  “When thou saidst\, Seek ye my face; my heart said unto thee\, Thy face\, Lord\, will I seek.”  Seekers Conference is a heart move and an opportunity for believers to connect with God in a life-changing way.  Believers who are truly seeking to know God more are the “seekers” who make a deliberate decision to go deeper in God every year! \nEach year Seekers Conference has a God-inspired theme meant to deliver a timely message to all those who attend and to help provoke more believers to become “seekers.” \nThis conference is open to the public and free to all. \n\nRegister Now!
URL:https://boldchurch.org/event/seekers-conference/
LOCATION:BOLD Church®\, 2735 West Arrowood Road\, Charlotte\, NC\, 28273\, United States
CATEGORIES:Calendar,Conferences & Events
ATTACH;FMTTYPE=image/jpeg:https://boldchurch.org/wp-content/uploads/2020/06/event-Seekers-1.jpg
END:VEVENT
END:VCALENDAR