BEGIN:VCALENDAR
VERSION:2.0
PRODID:-//boldchurch.org - ECPv6.15.17//NONSGML v1.0//EN
CALSCALE:GREGORIAN
METHOD:PUBLISH
X-WR-CALNAME:boldchurch.org
X-ORIGINAL-URL:https://boldchurch.org
X-WR-CALDESC:Events for boldchurch.org
REFRESH-INTERVAL;VALUE=DURATION:PT1H
X-Robots-Tag:noindex
X-PUBLISHED-TTL:PT1H
BEGIN:VTIMEZONE
TZID:America/New_York
BEGIN:DAYLIGHT
TZOFFSETFROM:-0500
TZOFFSETTO:-0400
TZNAME:EDT
DTSTART:20250309T070000
END:DAYLIGHT
BEGIN:STANDARD
TZOFFSETFROM:-0400
TZOFFSETTO:-0500
TZNAME:EST
DTSTART:20251102T060000
END:STANDARD
BEGIN:DAYLIGHT
TZOFFSETFROM:-0500
TZOFFSETTO:-0400
TZNAME:EDT
DTSTART:20260308T070000
END:DAYLIGHT
BEGIN:STANDARD
TZOFFSETFROM:-0400
TZOFFSETTO:-0500
TZNAME:EST
DTSTART:20261101T060000
END:STANDARD
BEGIN:DAYLIGHT
TZOFFSETFROM:-0500
TZOFFSETTO:-0400
TZNAME:EDT
DTSTART:20270314T070000
END:DAYLIGHT
BEGIN:STANDARD
TZOFFSETFROM:-0400
TZOFFSETTO:-0500
TZNAME:EST
DTSTART:20271107T060000
END:STANDARD
END:VTIMEZONE
BEGIN:VEVENT
DTSTART;TZID=America/New_York:20260701T183000
DTEND;TZID=America/New_York:20260701T200000
DTSTAMP:20260423T025703
CREATED:20260326T203643Z
LAST-MODIFIED:20260326T203643Z
UID:10000554-1782930600-1782936000@boldchurch.org
SUMMARY:Youth Bible Study
DESCRIPTION:For youth in grades 6-12.
URL:https://boldchurch.org/event/youth-bible-study-9/2026-07-01/
LOCATION:BOLD Church®\, 2735 West Arrowood Road\, Charlotte\, NC\, 28273\, United States
CATEGORIES:Calendar
END:VEVENT
BEGIN:VEVENT
DTSTART;TZID=America/New_York:20260708T183000
DTEND;TZID=America/New_York:20260708T200000
DTSTAMP:20260423T025703
CREATED:20260326T203643Z
LAST-MODIFIED:20260326T203643Z
UID:10000555-1783535400-1783540800@boldchurch.org
SUMMARY:Youth Bible Study
DESCRIPTION:For youth in grades 6-12.
URL:https://boldchurch.org/event/youth-bible-study-9/2026-07-08/
LOCATION:BOLD Church®\, 2735 West Arrowood Road\, Charlotte\, NC\, 28273\, United States
CATEGORIES:Calendar
END:VEVENT
END:VCALENDAR