BEGIN:VCALENDAR
VERSION:2.0
PRODID:-//boldchurch.org - ECPv6.15.17//NONSGML v1.0//EN
CALSCALE:GREGORIAN
METHOD:PUBLISH
X-ORIGINAL-URL:https://boldchurch.org
X-WR-CALDESC:Events for boldchurch.org
REFRESH-INTERVAL;VALUE=DURATION:PT1H
X-Robots-Tag:noindex
X-PUBLISHED-TTL:PT1H
BEGIN:VTIMEZONE
TZID:America/New_York
BEGIN:DAYLIGHT
TZOFFSETFROM:-0500
TZOFFSETTO:-0400
TZNAME:EDT
DTSTART:20210314T070000
END:DAYLIGHT
BEGIN:STANDARD
TZOFFSETFROM:-0400
TZOFFSETTO:-0500
TZNAME:EST
DTSTART:20211107T060000
END:STANDARD
BEGIN:DAYLIGHT
TZOFFSETFROM:-0500
TZOFFSETTO:-0400
TZNAME:EDT
DTSTART:20220313T070000
END:DAYLIGHT
BEGIN:STANDARD
TZOFFSETFROM:-0400
TZOFFSETTO:-0500
TZNAME:EST
DTSTART:20221106T060000
END:STANDARD
BEGIN:DAYLIGHT
TZOFFSETFROM:-0500
TZOFFSETTO:-0400
TZNAME:EDT
DTSTART:20230312T070000
END:DAYLIGHT
BEGIN:STANDARD
TZOFFSETFROM:-0400
TZOFFSETTO:-0500
TZNAME:EST
DTSTART:20231105T060000
END:STANDARD
BEGIN:DAYLIGHT
TZOFFSETFROM:-0500
TZOFFSETTO:-0400
TZNAME:EDT
DTSTART:20240310T070000
END:DAYLIGHT
BEGIN:STANDARD
TZOFFSETFROM:-0400
TZOFFSETTO:-0500
TZNAME:EST
DTSTART:20241103T060000
END:STANDARD
BEGIN:DAYLIGHT
TZOFFSETFROM:-0500
TZOFFSETTO:-0400
TZNAME:EDT
DTSTART:20250309T070000
END:DAYLIGHT
BEGIN:STANDARD
TZOFFSETFROM:-0400
TZOFFSETTO:-0500
TZNAME:EST
DTSTART:20251102T060000
END:STANDARD
BEGIN:DAYLIGHT
TZOFFSETFROM:-0500
TZOFFSETTO:-0400
TZNAME:EDT
DTSTART:20260308T070000
END:DAYLIGHT
BEGIN:STANDARD
TZOFFSETFROM:-0400
TZOFFSETTO:-0500
TZNAME:EST
DTSTART:20261101T060000
END:STANDARD
END:VTIMEZONE
BEGIN:VTIMEZONE
TZID:UTC
BEGIN:STANDARD
TZOFFSETFROM:+0000
TZOFFSETTO:+0000
TZNAME:UTC
DTSTART:20190101T000000
END:STANDARD
END:VTIMEZONE
BEGIN:VEVENT
DTSTART;TZID=America/New_York:20250907T110000
DTEND;TZID=America/New_York:20250907T130000
DTSTAMP:20260425T083917
CREATED:20250805T203920Z
LAST-MODIFIED:20250805T204446Z
UID:10000475-1757242800-1757250000@boldchurch.org
SUMMARY:PUSH 2025
DESCRIPTION:PUSH 2025   |  Mission Critical: The Call to Pray\nDifferent Format\, Deeper Content! You Don’t Want to Miss It! \nHave you found yourself wide awake at the same time many nights? Could it be God\, Himself\, sending you a “divine wake-up call” to meet Him at a divine hour for a divine purpose? Are you hitting the proverbial snooze button on Jesus\, the Chief Intercessor\, when He calls you in the night? \nIf you are desiring to go higher and deeper in prayer\, come learn about the Four Watches of the Night and hear what the Spirit of the Lord has to say to you personally about His timing for prayer. Your prayer life should grow from year to year! \nOn Saturday\, September 6th\, from 9:00 a.m. – 1:00 p.m.\, Bishop Carolyn wants to teach\, preach\, and provoke you to a rich and powerful prayer life. Bring your church prayer teams so that the Kingdom goes higher in one day! \nWe will further expound on this year’s topic at Sunday morning’s 11:00 a.m. worship service on September 7th\, with Minister Kristle Lee\, Minister Ave’ Leath\, and Minister Tomeka Martin. \n  \nA light breakfast will be served at 8:30 a.m. on Saturday\, and boxed lunches will be available to go. \n  \nRegistration is only required for Saturday’s prayer class. \nRegister for Saturday\n  \n\nSaturday\, September 6th\, 9:00 a.m. \n\nThe Four Watches of the Night – Bishop Carolyn Spellman\n\nSunday\, September 7th\, 11:00 a.m. \n\nMission Critical: The Call to Pray – Minister Kristle Lee\nPray Like a Priest – Minister Ave’ Leath\nPursue and Possess – Minister Tomeka Martin
URL:https://boldchurch.org/event/push-2025/2025-09-07/
LOCATION:BOLD Church®\, 2735 West Arrowood Road\, Charlotte\, NC\, 28273\, United States
CATEGORIES:Calendar,Conferences & Events
ATTACH;FMTTYPE=image/png:https://boldchurch.org/wp-content/uploads/2025/08/PUSH-2025.png
END:VEVENT
BEGIN:VEVENT
DTSTART;TZID=America/New_York:20250906T090000
DTEND;TZID=America/New_York:20250906T130000
DTSTAMP:20260425T083917
CREATED:20250805T203920Z
LAST-MODIFIED:20250805T204446Z
UID:10000474-1757149200-1757163600@boldchurch.org
SUMMARY:PUSH 2025
DESCRIPTION:PUSH 2025   |  Mission Critical: The Call to Pray\nDifferent Format\, Deeper Content! You Don’t Want to Miss It! \nHave you found yourself wide awake at the same time many nights? Could it be God\, Himself\, sending you a “divine wake-up call” to meet Him at a divine hour for a divine purpose? Are you hitting the proverbial snooze button on Jesus\, the Chief Intercessor\, when He calls you in the night? \nIf you are desiring to go higher and deeper in prayer\, come learn about the Four Watches of the Night and hear what the Spirit of the Lord has to say to you personally about His timing for prayer. Your prayer life should grow from year to year! \nOn Saturday\, September 6th\, from 9:00 a.m. – 1:00 p.m.\, Bishop Carolyn wants to teach\, preach\, and provoke you to a rich and powerful prayer life. Bring your church prayer teams so that the Kingdom goes higher in one day! \nWe will further expound on this year’s topic at Sunday morning’s 11:00 a.m. worship service on September 7th\, with Minister Kristle Lee\, Minister Ave’ Leath\, and Minister Tomeka Martin. \n  \nA light breakfast will be served at 8:30 a.m. on Saturday\, and boxed lunches will be available to go. \n  \nRegistration is only required for Saturday’s prayer class. \nRegister for Saturday\n  \n\nSaturday\, September 6th\, 9:00 a.m. \n\nThe Four Watches of the Night – Bishop Carolyn Spellman\n\nSunday\, September 7th\, 11:00 a.m. \n\nMission Critical: The Call to Pray – Minister Kristle Lee\nPray Like a Priest – Minister Ave’ Leath\nPursue and Possess – Minister Tomeka Martin
URL:https://boldchurch.org/event/push-2025/2025-09-06/
LOCATION:BOLD Church®\, 2735 West Arrowood Road\, Charlotte\, NC\, 28273\, United States
CATEGORIES:Calendar,Conferences & Events
ATTACH;FMTTYPE=image/png:https://boldchurch.org/wp-content/uploads/2025/08/PUSH-2025.png
END:VEVENT
BEGIN:VEVENT
DTSTART;TZID=America/New_York:20250816T190000
DTEND;TZID=America/New_York:20250816T220000
DTSTAMP:20260425T083917
CREATED:20250401T152625Z
LAST-MODIFIED:20250729T202111Z
UID:10000448-1755370800-1755381600@boldchurch.org
SUMMARY:Men's Conference 2025
DESCRIPTION:Live Like A King!  Men’s Conference 2025 \n\n\n\n\n\n\n\n\n\nAre you ready to step into your God-given authority? Live Like a King! It’s a clarion call to the new normal – a life of strength\, purpose\, and divine potential. Come and hear in 2025 how to be transformed and move in the grace of a king’s anointing! Join us for Live Like a King! Men’s Conference 2025\, where men will gather to be empowered\, equipped\, and elevated to live boldly in their divine calling. \n\n\n\n\n\n\n\n  \n*This free event is open exclusively to men age 18 and older.* \n  \n\n\n\nRegister Now\n\nAGENDA \nFriday Night\, August 15th\, 7:00 p.m. \n\nLive Like a King (Minister Andrew Martin)\nLiving Like a King Requires the Character of the King (Evangelist Myron Marsh)\nGratitude: The Heart of a King (Minister Jonathan Lee)\n\nSaturday Morning\, August 16th\, 9:00 a.m. – 1:00 p.m.\nBreakfast will be served at 8 a.m. on Saturday\, and boxed lunches will be available to-go. \n\nThe Strength of the King Comes from Fighting the Good Fight of Faith (Pastor Karl Redd)\nThe Inheritance of a King – It’s More Than Just Money (Minister Darian Haywood)\nThe Influence of a King – Change the Atmosphere (Minister Clarence Moore)\n\nSaturday Night\, August 16th\, 7:00 p.m. \n\nThe Determination of a King (Minister Deonn Leath)\nThe Righteousness of a King: All These Things Will Be Added unto You (Bishop Keith Spellman)
URL:https://boldchurch.org/event/mens-conference-2025/2025-08-16/2/
LOCATION:BOLD Church®\, 2735 West Arrowood Road\, Charlotte\, NC\, 28273\, United States
CATEGORIES:Calendar,Conferences & Events
ATTACH;FMTTYPE=image/png:https://boldchurch.org/wp-content/uploads/2025/04/MC2025_media.png
END:VEVENT
BEGIN:VEVENT
DTSTART;TZID=America/New_York:20250816T090000
DTEND;TZID=America/New_York:20250816T130000
DTSTAMP:20260425T083917
CREATED:20250401T152625Z
LAST-MODIFIED:20250729T202111Z
UID:10000447-1755334800-1755349200@boldchurch.org
SUMMARY:Men's Conference 2025
DESCRIPTION:Live Like A King!  Men’s Conference 2025 \n\n\n\n\n\n\n\n\n\nAre you ready to step into your God-given authority? Live Like a King! It’s a clarion call to the new normal – a life of strength\, purpose\, and divine potential. Come and hear in 2025 how to be transformed and move in the grace of a king’s anointing! Join us for Live Like a King! Men’s Conference 2025\, where men will gather to be empowered\, equipped\, and elevated to live boldly in their divine calling. \n\n\n\n\n\n\n\n  \n*This free event is open exclusively to men age 18 and older.* \n  \n\n\n\nRegister Now\n\nAGENDA \nFriday Night\, August 15th\, 7:00 p.m. \n\nLive Like a King (Minister Andrew Martin)\nLiving Like a King Requires the Character of the King (Evangelist Myron Marsh)\nGratitude: The Heart of a King (Minister Jonathan Lee)\n\nSaturday Morning\, August 16th\, 9:00 a.m. – 1:00 p.m.\nBreakfast will be served at 8 a.m. on Saturday\, and boxed lunches will be available to-go. \n\nThe Strength of the King Comes from Fighting the Good Fight of Faith (Pastor Karl Redd)\nThe Inheritance of a King – It’s More Than Just Money (Minister Darian Haywood)\nThe Influence of a King – Change the Atmosphere (Minister Clarence Moore)\n\nSaturday Night\, August 16th\, 7:00 p.m. \n\nThe Determination of a King (Minister Deonn Leath)\nThe Righteousness of a King: All These Things Will Be Added unto You (Bishop Keith Spellman)
URL:https://boldchurch.org/event/mens-conference-2025/2025-08-16/1/
LOCATION:BOLD Church®\, 2735 West Arrowood Road\, Charlotte\, NC\, 28273\, United States
CATEGORIES:Calendar,Conferences & Events
ATTACH;FMTTYPE=image/png:https://boldchurch.org/wp-content/uploads/2025/04/MC2025_media.png
END:VEVENT
BEGIN:VEVENT
DTSTART;TZID=America/New_York:20250815T190000
DTEND;TZID=America/New_York:20250815T220000
DTSTAMP:20260425T083917
CREATED:20250401T152625Z
LAST-MODIFIED:20250729T202111Z
UID:10000446-1755284400-1755295200@boldchurch.org
SUMMARY:Men's Conference 2025
DESCRIPTION:Live Like A King!  Men’s Conference 2025 \n\n\n\n\n\n\n\n\n\nAre you ready to step into your God-given authority? Live Like a King! It’s a clarion call to the new normal – a life of strength\, purpose\, and divine potential. Come and hear in 2025 how to be transformed and move in the grace of a king’s anointing! Join us for Live Like a King! Men’s Conference 2025\, where men will gather to be empowered\, equipped\, and elevated to live boldly in their divine calling. \n\n\n\n\n\n\n\n  \n*This free event is open exclusively to men age 18 and older.* \n  \n\n\n\nRegister Now\n\nAGENDA \nFriday Night\, August 15th\, 7:00 p.m. \n\nLive Like a King (Minister Andrew Martin)\nLiving Like a King Requires the Character of the King (Evangelist Myron Marsh)\nGratitude: The Heart of a King (Minister Jonathan Lee)\n\nSaturday Morning\, August 16th\, 9:00 a.m. – 1:00 p.m.\nBreakfast will be served at 8 a.m. on Saturday\, and boxed lunches will be available to-go. \n\nThe Strength of the King Comes from Fighting the Good Fight of Faith (Pastor Karl Redd)\nThe Inheritance of a King – It’s More Than Just Money (Minister Darian Haywood)\nThe Influence of a King – Change the Atmosphere (Minister Clarence Moore)\n\nSaturday Night\, August 16th\, 7:00 p.m. \n\nThe Determination of a King (Minister Deonn Leath)\nThe Righteousness of a King: All These Things Will Be Added unto You (Bishop Keith Spellman)
URL:https://boldchurch.org/event/mens-conference-2025/2025-08-15/
LOCATION:BOLD Church®\, 2735 West Arrowood Road\, Charlotte\, NC\, 28273\, United States
CATEGORIES:Calendar,Conferences & Events
ATTACH;FMTTYPE=image/png:https://boldchurch.org/wp-content/uploads/2025/04/MC2025_media.png
END:VEVENT
BEGIN:VEVENT
DTSTART;VALUE=DATE:20250717
DTEND;VALUE=DATE:20250720
DTSTAMP:20260425T083917
CREATED:20220829T211921Z
LAST-MODIFIED:20251203T202714Z
UID:10000001-1752710400-1752969599@boldchurch.org
SUMMARY:Women's Retreat 2025
DESCRIPTION:The theme for Women’s Retreat 2025\, “She Got Nexxt\,” is a call to break through barriers and reach new heights. This year\, instead of room ministry\, we will have dynamic breakout sessions alongside our corporate sessions\, and you get to choose your roommate. \nLet’s take it to the next level and BREAK THROUGH to our Nexxt! As the prophetess said at Women’s Retreat 2024\, “It may have taken us twice as long\, but we are getting there.” \nDon’t miss out on these incredible ministry sessions. Click the button below to register or learn more about Women’s Retreat 2025. \n  \nThe cost of this event is $349 for the full retreat experience and $149 to attend only the corporate sessions.  If you choose a payment plan\, full payment is due by June 19\, 2025. \n  \n\n  \nClick here to register. \nRegister\n  \n\nAgenda \nJuly 17\, 2025- Thursday Evening Breakout Sessions and Opening Corporate Session\nJuly 18\, 2025- Friday Morning Breakout Sessions and Corporate Session\nJuly 18\, 2025- Friday Evening Breakout Sessions and Corporate Session\nJuly 19\, 2025- Saturday Morning Breakout Session and Closing Corporate Session \n  \n*Saturday\, July 19\, 2025 – 11:00 a.m. Resort Check Out Time \n\n  \n  \n  \nEach year at the BOLD Women’s Retreat\, women from different parts of the country come together to seek an encounter with our Lord.  The BOLD Women’s Retreat is a spirit-filled move of God that focuses on delivering a timely word to all the women of God who attend.  For three days\, women steal away to hear from God at Myrtle Beach\, South Carolina\, away from all of the noise and distractions of everyday life.  This three-day conference is packed with the Word of God through the teachings of dynamic speakers from various parts of the country.  It is a time of refreshing\, rebuilding\, reigniting\, and activating for the women who attend. \n  \nEach year\, the BOLD Women’s Retreat has a God-inspired theme meant to deliver a well-timed message to all the women that attend. \n  \nThis conference is open to the public and hosted as an off-site retreat; attendance fees apply.
URL:https://boldchurch.org/event/womens-retreat25/
LOCATION:Grandover Resort & Spa\, 1000 Club Road\, Greensboro\, NC\, 27407\, United States
CATEGORIES:Calendar,Conferences & Events
ATTACH;FMTTYPE=image/png:https://boldchurch.org/wp-content/uploads/2024/12/wr2025-revised-01162025.png
END:VEVENT
BEGIN:VEVENT
DTSTART;VALUE=DATE:20241122
DTEND;VALUE=DATE:20241124
DTSTAMP:20260425T083917
CREATED:20240709T164710Z
LAST-MODIFIED:20241031T154338Z
UID:10000385-1732233600-1732406399@boldchurch.org
SUMMARY:Men's Conference 2024
DESCRIPTION:Men of God: God has you on His mind in 2024. We invite you to join us at BOLD Church to experience the undeniable presence of God as we join together to let iron sharpen iron. If you accept the invitation\, God will meet you. You will never be the same! \n– Friday Evening\, November 22nd\, 7:00 p.m.\n– Saturday Morning\, November 23rd\, 9:00 a.m.- 1:00 p.m.\n– Saturday Evening\, November 23rd\, 7:00 p.m. \n*This event is open to men only (age 18 and older). Sorry\, no women allowed. \nRegister Now
URL:https://boldchurch.org/event/mens-conference-2024/
LOCATION:BOLD Church®\, 2735 West Arrowood Road\, Charlotte\, NC\, 28273\, United States
CATEGORIES:Conferences & Events
ATTACH;FMTTYPE=image/png:https://boldchurch.org/wp-content/uploads/2024/06/men2024-web-eblast-2250x1650-rev.png
END:VEVENT
BEGIN:VEVENT
DTSTART;VALUE=DATE:20240708
DTEND;VALUE=DATE:20240712
DTSTAMP:20260425T083917
CREATED:20231003T223756Z
LAST-MODIFIED:20240322T192358Z
UID:10000274-1720396800-1720742399@boldchurch.org
SUMMARY:Camp JC 2024
DESCRIPTION:Camp JC 2024: I Got My Confidence Back\n\n\n\n\n\n\n\n\n\n\n\n\n\n\nLife has a way of trying to chip away at our confidence\, even at an early age. Don’t underestimate how many things attack your kids confidence!  Last year we left the mountain with our confidence and faith in Christ renewed and restored. \nThis year we are coming to build on that work! Confidence in Christ is the key to a solid walk of faith. Send your kids to Camp JC 2024: I GOT MY CONFIDENCE BACK!\n\n\n\n\n\n\n\n  \nAge Requirement: A camper must between the ages of 7 and 18 to attend. \nFee Policy: The cost of this event is $250.00. A non-refundable deposit of $50.00 is required to register. All balances must be settled by June 30\, 2024. No refunds after May 15\, 2024. This fee includes conference materials\, meals\, and shared accommodations for three nights. Transportation is not provided. \n  \nREGISTER
URL:https://boldchurch.org/event/camp-jc-2024/
LOCATION:YMCA Blue Ridge Assembly\, 84 Blue Ridge Assembly Dr\, Black Mountain\, NC\, 28711\, United States
CATEGORIES:Calendar,Conferences & Events
ATTACH;FMTTYPE=image/png:https://boldchurch.org/wp-content/uploads/2023/10/Camp-JC-2024-pool-mediaX.png
END:VEVENT
BEGIN:VEVENT
DTSTART;TZID=America/New_York:20230710T080000
DTEND;TZID=America/New_York:20230713T110000
DTSTAMP:20260425T083917
CREATED:20230113T200858Z
LAST-MODIFIED:20230201T184439Z
UID:10000196-1688976000-1689246000@boldchurch.org
SUMMARY:Camp JC
DESCRIPTION:Camp JC 2022 was STRAIGHT FIRE! God met us there. We determined that OUR GOD WILL BE OUR GOD EVERYWHERE WE GO!!! We expect MORE this year. \nGod has given His children so much GRACE. Grace gives you advantages!! Come learn to have Courage in Your Advantage!!! \n  \nREGISTER\n  \nBe sure to follow us @boldchurchinc on Facebook\, Instagram\, Twitter\, and YouTube! \nWe can’t wait to meet our children and youth in the mountains!
URL:https://boldchurch.org/event/camp-jc-2/
LOCATION:YMCA Blue Ridge Assembly\, 84 Blue Ridge Assembly Dr\, Black Mountain\, NC\, 28711\, United States
CATEGORIES:Calendar,Conferences & Events
ATTACH;FMTTYPE=image/png:https://boldchurch.org/wp-content/uploads/2023/01/Camp-JC-2023-Flyer-2.png
END:VEVENT
BEGIN:VEVENT
DTSTART;VALUE=DATE:20220805
DTEND;VALUE=DATE:20220808
DTSTAMP:20260425T083917
CREATED:20220715T202556Z
LAST-MODIFIED:20220727T224124Z
UID:10000094-1659657600-1659916799@boldchurch.org
SUMMARY:P.U.S.H. II- The Covenant
DESCRIPTION:Do you believe the covenant promises of God? Then you must PRAY UNTIL SOMETHING HAPPENS!! Pray until the manifestation of His promises appear.  God’s word stands forever and His promises are true. \nGod’s covenant is unbreakable and His word is infallible!  We want to provoke you to another level of prayer. P.U.S.H. II ~ THE COVENANT may be just what you need at this point!! \nFriday\, August 5th\, 7 p.m.\n“Repairer of the Breach”-Minister Audrey Page\n“Covenant Pushers”- Minister Deonn Leath \nSaturday\, August 6th\, 9 a.m.\n“Execute The Will”- Minister Ave Leath\n“Kingdom Advancement”- Bishop Keith Spellman \nSunday\, August 7th\, 11 a.m.\n“Covenant Prayers: God Cannot Lie”- Christina Richardson\n“Covenant Keeping God”- Bishop Carolyn Spellman \n  \nRegister Now\n  \n\nP.U.S.H. stands for “PRAY UNTIL SOMETHING HAPPENS!”  This prayer conference is designed to provoke all believers into a powerful prayer life.  We believe God and take Him at His word that when we ask\, we shall receive of Him.  The teaching and preaching during this conference are focused on reaching higher heights in prayer. The God-inspired teachings during P.U.S.H. provoke Christians to deeper and more fervent prayer. \nWhile BOLD Church® has prayer classes throughout the year\, the P.U.S.H. Conference is open to the public and is intended to propel attendees into a praying on a higher level. Each year P.U.S.H. has a God-inspired theme meant to deliver a timely message to all those who attend and to help provoke more believers to a life of prayer. \nThis conference is open to the public and free to all. \n 
URL:https://boldchurch.org/event/push2022/
LOCATION:BOLD Church®\, 2735 West Arrowood Road\, Charlotte\, NC\, 28273\, United States
CATEGORIES:Calendar,Conferences & Events
ATTACH;FMTTYPE=image/jpeg:https://boldchurch.org/wp-content/uploads/2022/07/PUSH-2022-eblast.jpg
END:VEVENT
BEGIN:VEVENT
DTSTART;TZID=America/New_York:20220711T080000
DTEND;TZID=America/New_York:20220714T113000
DTSTAMP:20260425T083917
CREATED:20210521T003310Z
LAST-MODIFIED:20220418T220642Z
UID:10000113-1657526400-1657798200@boldchurch.org
SUMMARY:Camp J.C. 2022
DESCRIPTION:Two years later but we are back by grace through faith! Camp JC is BACK!! 10X Better by Grace. NOTHING CAN STOP A MOVE OF GOD. Come prepared to encounter God on the mountain like NEVER BEFORE!! His goodness and mercy will meet us\, along with His supernatural power and presence!! This will be a year like none other. Counselors are READY and on FIRE for God!! From the Seniors (whose last year this will be) to the new campers who have never been before\, this will be an AMAZING MOVE OF GOD. \n\nThis event is for youth ages 7 to 18. \n\nRegister online to secure aspace. \n\n\n\nCamp JC 2022 Registration\n\nCamp JC Kickoff Video
URL:https://boldchurch.org/event/camp-jc-2022/
LOCATION:YMCA Blue Ridge Assembly\, 84 Blue Ridge Assembly Dr\, Black Mountain\, NC\, 28711\, United States
CATEGORIES:Calendar,Conferences & Events
END:VEVENT
BEGIN:VEVENT
DTSTART;TZID=America/New_York:20220512T160000
DTEND;TZID=America/New_York:20220514T140000
DTSTAMP:20260425T083917
CREATED:20210720T184952Z
LAST-MODIFIED:20210720T185806Z
UID:10000119-1652371200-1652536800@boldchurch.org
SUMMARY:Women's Retreat 2022
DESCRIPTION:HE SAID WHAT HE SAID!! GOD’S WORD STANDS FOREVER!!  It’s time to register for Women’s Retreat 2022.  Please join us for KAIROS- Divine Opportunity is Here. This event will be held in Myrtle Beach\, SC from May 12\, 2022 to May 14\, 2022. This conference is open to the public and hosted as an off-site retreat; attendance fees apply. \n\nRegister Now! \n  \nIf you missed it\, please watch the kick-off service! We hope to see you at Women’s Retreat 2022 (May 12-14\, 2022). \nWomen’s Retreat 2022 Kickoff – YouTube \nThe BOLD Women’s Retreat is a spirit-filled move of God that focuses on delivering a timely word to all the women of God who attend. For three days\, women steal away to hear from God at Myrtle Beach\, South Carolina\, away from all of the noise and distractions of everyday life. This three-day conference is packed with the Word of God through the teachings of dynamic speakers from various parts of the country. It is a time of refreshing\, rebuilding\, reigniting\, and activating for the women who attend.
URL:https://boldchurch.org/event/womens-retreat-2022/
LOCATION:Royale Palms\, Myrtle Beach\, SC\, 10000 Beach Club Dr\, Myrtle Beach\, SC\, 29572\, United States
CATEGORIES:Calendar,Conferences & Events
END:VEVENT
BEGIN:VEVENT
DTSTART;VALUE=DATE:20201105
DTEND;VALUE=DATE:20201108
DTSTAMP:20260425T083917
CREATED:20190405T214301Z
LAST-MODIFIED:20200626T125647Z
UID:10000168-1604534400-1604793599@boldchurch.org
SUMMARY:Seekers Conference
DESCRIPTION:Seekers Conference is a ministry event for those whose hearts are hungry for God and respond to the call in Psalms 27:8:  “When thou saidst\, Seek ye my face; my heart said unto thee\, Thy face\, Lord\, will I seek.”  Seekers Conference is a heart move and an opportunity for believers to connect with God in a life-changing way.  Believers who are truly seeking to know God more are the “seekers” who make a deliberate decision to go deeper in God every year! \nEach year Seekers Conference has a God-inspired theme meant to deliver a timely message to all those who attend and to help provoke more believers to become “seekers.” \nThis conference is open to the public and free to all. \n\nRegister Now!
URL:https://boldchurch.org/event/seekers-conference/
LOCATION:BOLD Church®\, 2735 West Arrowood Road\, Charlotte\, NC\, 28273\, United States
CATEGORIES:Calendar,Conferences & Events
ATTACH;FMTTYPE=image/jpeg:https://boldchurch.org/wp-content/uploads/2020/06/event-Seekers-1.jpg
END:VEVENT
END:VCALENDAR