BEGIN:VCALENDAR
VERSION:2.0
PRODID:-//boldchurch.org - ECPv6.15.17//NONSGML v1.0//EN
CALSCALE:GREGORIAN
METHOD:PUBLISH
X-ORIGINAL-URL:https://boldchurch.org
X-WR-CALDESC:Events for boldchurch.org
REFRESH-INTERVAL;VALUE=DURATION:PT1H
X-Robots-Tag:noindex
X-PUBLISHED-TTL:PT1H
BEGIN:VTIMEZONE
TZID:America/New_York
BEGIN:DAYLIGHT
TZOFFSETFROM:-0500
TZOFFSETTO:-0400
TZNAME:EDT
DTSTART:20250309T070000
END:DAYLIGHT
BEGIN:STANDARD
TZOFFSETFROM:-0400
TZOFFSETTO:-0500
TZNAME:EST
DTSTART:20251102T060000
END:STANDARD
BEGIN:DAYLIGHT
TZOFFSETFROM:-0500
TZOFFSETTO:-0400
TZNAME:EDT
DTSTART:20260308T070000
END:DAYLIGHT
BEGIN:STANDARD
TZOFFSETFROM:-0400
TZOFFSETTO:-0500
TZNAME:EST
DTSTART:20261101T060000
END:STANDARD
BEGIN:DAYLIGHT
TZOFFSETFROM:-0500
TZOFFSETTO:-0400
TZNAME:EDT
DTSTART:20270314T070000
END:DAYLIGHT
BEGIN:STANDARD
TZOFFSETFROM:-0400
TZOFFSETTO:-0500
TZNAME:EST
DTSTART:20271107T060000
END:STANDARD
END:VTIMEZONE
BEGIN:VEVENT
DTSTART;TZID=America/New_York:20260429T183000
DTEND;TZID=America/New_York:20260429T200000
DTSTAMP:20260423T031900
CREATED:20260305T200356Z
LAST-MODIFIED:20260309T190037Z
UID:10000543-1777487400-1777492800@boldchurch.org
SUMMARY:Ahead of the Curve Bible Study
DESCRIPTION:Ahead of the Curve is back like you’ve never seen it before! \nWe invite all single men\, women\, and couples in committed relationships to come out and hear what the Spirit of the Lord has to say. Bishops Keith and Carolyn will host this three night study and discussion on responsible dating\, martial readiness\, and so much! \nJoin us on Wednesdays\, April 15th\, 22nd\, & 29th from 6:30 p.m. to 8:00 p.m. Mark your calendars\, prepare your hearts\, and plan to be in the room. \n  \nFor single men and women\, ages 18 and up– committed relationships welcome. \n  \n*Childcare will not be available*
URL:https://boldchurch.org/event/adult-bible-study-8/2026-04-29/
LOCATION:BOLD Church®\, 2735 West Arrowood Road\, Charlotte\, NC\, 28273\, United States
CATEGORIES:Calendar
ATTACH;FMTTYPE=image/png:https://boldchurch.org/wp-content/uploads/2026/03/Ahead-of-the-Curve-Bible-Study-042026-media.png
END:VEVENT
BEGIN:VEVENT
DTSTART;TZID=America/New_York:20260506T183000
DTEND;TZID=America/New_York:20260506T200000
DTSTAMP:20260423T031900
CREATED:20260305T195946Z
LAST-MODIFIED:20260305T200107Z
UID:10000486-1778092200-1778097600@boldchurch.org
SUMMARY:Adult Bible Study
DESCRIPTION:The Study of Angels \nThe time is now to understand who these great created beings are and what the Bible says about angelic activity. \nBishop Carolyn wants to lead you through a detailed study to expand your understanding and knowledge of angels. \nJoin us on Wednesdays\, May 6th\, 13th\, and 20th at 6:30 p.m. \n  \nChildren’s Church and Nursery will be available. \nYouth will not have Bible Study but are welcome to attend these sessions.
URL:https://boldchurch.org/event/adult-bible-study-7/2026-05-06/
LOCATION:BOLD Church®\, 2735 West Arrowood Road\, Charlotte\, NC\, 28273\, United States
CATEGORIES:Calendar
ATTACH;FMTTYPE=image/png:https://boldchurch.org/wp-content/uploads/2026/03/Adult-Bible-Study-052026-media.png
END:VEVENT
BEGIN:VEVENT
DTSTART;TZID=America/New_York:20260513T183000
DTEND;TZID=America/New_York:20260513T200000
DTSTAMP:20260423T031900
CREATED:20260305T195946Z
LAST-MODIFIED:20260305T200107Z
UID:10000487-1778697000-1778702400@boldchurch.org
SUMMARY:Adult Bible Study
DESCRIPTION:The Study of Angels \nThe time is now to understand who these great created beings are and what the Bible says about angelic activity. \nBishop Carolyn wants to lead you through a detailed study to expand your understanding and knowledge of angels. \nJoin us on Wednesdays\, May 6th\, 13th\, and 20th at 6:30 p.m. \n  \nChildren’s Church and Nursery will be available. \nYouth will not have Bible Study but are welcome to attend these sessions.
URL:https://boldchurch.org/event/adult-bible-study-7/2026-05-13/
LOCATION:BOLD Church®\, 2735 West Arrowood Road\, Charlotte\, NC\, 28273\, United States
CATEGORIES:Calendar
ATTACH;FMTTYPE=image/png:https://boldchurch.org/wp-content/uploads/2026/03/Adult-Bible-Study-052026-media.png
END:VEVENT
BEGIN:VEVENT
DTSTART;TZID=America/New_York:20260518T183000
DTEND;TZID=America/New_York:20260518T200000
DTSTAMP:20260423T031900
CREATED:20260311T194006Z
LAST-MODIFIED:20260311T194006Z
UID:10000548-1779129000-1779134400@boldchurch.org
SUMMARY:Men's Bible Study
DESCRIPTION:For men age 18 and older. \nNursery\, Children’s Church\, and Youth services will not be available.
URL:https://boldchurch.org/event/mens-bible-study-5/
LOCATION:BOLD Church®\, 2735 West Arrowood Road\, Charlotte\, NC\, 28273\, United States
CATEGORIES:Calendar
END:VEVENT
BEGIN:VEVENT
DTSTART;TZID=America/New_York:20260520T183000
DTEND;TZID=America/New_York:20260520T200000
DTSTAMP:20260423T031900
CREATED:20260305T195946Z
LAST-MODIFIED:20260305T200107Z
UID:10000488-1779301800-1779307200@boldchurch.org
SUMMARY:Adult Bible Study
DESCRIPTION:The Study of Angels \nThe time is now to understand who these great created beings are and what the Bible says about angelic activity. \nBishop Carolyn wants to lead you through a detailed study to expand your understanding and knowledge of angels. \nJoin us on Wednesdays\, May 6th\, 13th\, and 20th at 6:30 p.m. \n  \nChildren’s Church and Nursery will be available. \nYouth will not have Bible Study but are welcome to attend these sessions.
URL:https://boldchurch.org/event/adult-bible-study-7/2026-05-20/
LOCATION:BOLD Church®\, 2735 West Arrowood Road\, Charlotte\, NC\, 28273\, United States
CATEGORIES:Calendar
ATTACH;FMTTYPE=image/png:https://boldchurch.org/wp-content/uploads/2026/03/Adult-Bible-Study-052026-media.png
END:VEVENT
BEGIN:VEVENT
DTSTART;TZID=America/New_York:20260606T060000
DTEND;TZID=America/New_York:20260606T080000
DTSTAMP:20260423T031900
CREATED:20260311T194443Z
LAST-MODIFIED:20260311T194443Z
UID:10000551-1780725600-1780732800@boldchurch.org
SUMMARY:Men's Ministry
DESCRIPTION:Prayer and breakfast. Please check your email for details.
URL:https://boldchurch.org/event/mens-ministry-2/
LOCATION:BOLD Church®\, 2735 West Arrowood Road\, Charlotte\, NC\, 28273\, United States
CATEGORIES:Calendar
END:VEVENT
BEGIN:VEVENT
DTSTART;VALUE=DATE:20260615
DTEND;VALUE=DATE:20260619
DTSTAMP:20260423T031900
CREATED:20250414T213648Z
LAST-MODIFIED:20260115T230157Z
UID:10000467-1781481600-1781827199@boldchurch.org
SUMMARY:Camp JC 2026
DESCRIPTION:What would your child’s life look like if they confidently decided at an early age that Jesus’ way is better—and lived according to that decision? Camp J.C. is coming back strong with DECISION 2026! We are believing for the Holy Spirit to release a FRESH FIRE in our children that empowers them to choose for themselves that Jesus’ Way IS Better! It’s more than a theme song—it’s a life-changing commitment. \nCamp J.C. 2026 — We choose JESUS because His Way IS Better! \n\n\n\n\nYMCA Blue Ridge Assembly – Black Mountain\, NC\nJune 15-18\, 2026\n\n\n\n\n\nRegister\n\n\n\n\nAge Requirement\nA camper must between the ages of 7 and 18 to attend. (Must be age 7 by July 31\, 2026.) \nFee Policy\nThe cost of this event is $250.00. A non-refundable deposit of $50.00 is required to register. All balances must be settled by June 1\, 2026.  No refunds after May 15\, 2026. This fee includes conference materials\, meals\, and shared accommodations for three nights. Transportation is not provided. \nWellness Policy \nThe health and safety of all campers and staff are our highest priority. To help us maintain a safe and healthy environment: \nIf your child has any cold\, flu-like\, fever\, or COVID-related symptoms of any kind\, please exercise caution and refrain from sending them to camp.
URL:https://boldchurch.org/event/camp-jc-2026/
LOCATION:BOLD Church®\, 2735 West Arrowood Road\, Charlotte\, NC\, 28273\, United States
CATEGORIES:Calendar,Conferences & Events
ATTACH;FMTTYPE=image/png:https://boldchurch.org/wp-content/uploads/2025/04/Camp-JC-2026_Media.png
END:VEVENT
BEGIN:VEVENT
DTSTART;TZID=America/New_York:20260629T183000
DTEND;TZID=America/New_York:20260629T200000
DTSTAMP:20260423T031900
CREATED:20260311T194102Z
LAST-MODIFIED:20260311T194102Z
UID:10000549-1782757800-1782763200@boldchurch.org
SUMMARY:Men's Bible Study
DESCRIPTION:For men age 18 and older. \nNursery\, Children’s Church\, and Youth services will not be available.
URL:https://boldchurch.org/event/mens-bible-study-6/
LOCATION:BOLD Church®\, 2735 West Arrowood Road\, Charlotte\, NC\, 28273\, United States
CATEGORIES:Calendar
END:VEVENT
BEGIN:VEVENT
DTSTART;TZID=America/New_York:20260701T183000
DTEND;TZID=America/New_York:20260701T200000
DTSTAMP:20260423T031900
CREATED:20260326T203643Z
LAST-MODIFIED:20260326T203643Z
UID:10000554-1782930600-1782936000@boldchurch.org
SUMMARY:Youth Bible Study
DESCRIPTION:For youth in grades 6-12.
URL:https://boldchurch.org/event/youth-bible-study-9/2026-07-01/
LOCATION:BOLD Church®\, 2735 West Arrowood Road\, Charlotte\, NC\, 28273\, United States
CATEGORIES:Calendar
END:VEVENT
BEGIN:VEVENT
DTSTART;TZID=America/New_York:20260708T183000
DTEND;TZID=America/New_York:20260708T200000
DTSTAMP:20260423T031900
CREATED:20260326T203643Z
LAST-MODIFIED:20260326T203643Z
UID:10000555-1783535400-1783540800@boldchurch.org
SUMMARY:Youth Bible Study
DESCRIPTION:For youth in grades 6-12.
URL:https://boldchurch.org/event/youth-bible-study-9/2026-07-08/
LOCATION:BOLD Church®\, 2735 West Arrowood Road\, Charlotte\, NC\, 28273\, United States
CATEGORIES:Calendar
END:VEVENT
BEGIN:VEVENT
DTSTART;TZID=America/New_York:20260722T183000
DTEND;TZID=America/New_York:20260722T200000
DTSTAMP:20260423T031900
CREATED:20260422T173345Z
LAST-MODIFIED:20260422T173345Z
UID:10000556-1784745000-1784750400@boldchurch.org
SUMMARY:Singles Bible Study
DESCRIPTION:This Bible Study is for all single adults age 18+. \nThere will no Bible Study for children and youth and child care is not available.
URL:https://boldchurch.org/event/singles-bible-study-2/2026-07-22/
LOCATION:BOLD Church®\, 2735 West Arrowood Road\, Charlotte\, NC\, 28273\, United States
CATEGORIES:Calendar
END:VEVENT
BEGIN:VEVENT
DTSTART;VALUE=DATE:20260730
DTEND;VALUE=DATE:20260802
DTSTAMP:20260423T031900
CREATED:20251203T203002Z
LAST-MODIFIED:20251203T203714Z
UID:10000478-1785369600-1785628799@boldchurch.org
SUMMARY:Women's Retreat 2026
DESCRIPTION:God is a God of successive GOODNESS! \nSuccessive means existing or occurring one after another without a break.  And that is exactly how God moves—He has a successive history of goodness toward His children—goodness upon goodness\, grace upon grace. With God\, there is always a THIS TIME! \nSo—are you ready for what God will do THIS TIME in your life? Our God is preparing to perform mighty acts on behalf of His children and to reveal His successive goodness. THIS TIME\, when God blesses you\, there will be no question about where it came from—everyone will know it was ALL GOD! \nBut just as God has a THIS TIME for you\, what is your THIS TIME for God? Every one of us has a THIS TIME\, Lord—our surrender\, our offering\, our yes—that we bring to Him! \nCome explore this divine invitation and experience impartation and revelation for your life… THIS TIME! \n\nAgenda \n\nThursday\, July 30\, 2026 – Breakout Sessions and Opening General Session\nFriday\, July 31\, 2026 – Breakout Sessions and Morning General Session\nFriday\, July 31\, 2026 – Breakout Sessions and Evening General Session\nSaturday\, August 1\, 2026* – Breakout Sessions and Closing General Session\n\n  \n*The  check out time for all Full Retreat Experience guests is 11:00 a.m. on Saturday\, August 1\, 2026. You will be given time to check out prior to the general session.  \nREGISTER NOW\n  \n\nAge Requirement\nAll attendees must be age 18 or older to attend. \nFee Policy\nThe cost of this event is $349.00 for the full experience and $149.00 to attend only general sessions. A non-refundable deposit of $99.00 is required to register. All balances must be settled by June 29\, 2026.  No refunds after June 15\, 2026. \nWellness Policy\nThe health and safety of all guests and staff are our highest priority. To help us maintain a safe and healthy environment: \nIf you have any cold\, flu-like\, fever\, or COVID-related symptoms of any kind\, please exercise caution and do not attend. \n  \n\n  \nEach year at the BOLD Women’s Retreat\, women from different parts of the country come together to seek an encounter with our Lord.  The BOLD Women’s Retreat is a spirit-filled move of God that focuses on delivering a timely word to all the women of God who attend.  For three days\, women steal away to hear from God at Myrtle Beach\, South Carolina\, away from all of the noise and distractions of everyday life.  This three-day conference is packed with the Word of God through the teachings of dynamic speakers from various parts of the country.  It is a time of refreshing\, rebuilding\, reigniting\, and activating for the women who attend. \n  \nEach year\, the BOLD Women’s Retreat has a God-inspired theme meant to deliver a well-timed message to all the women that attend. \n  \nThis conference is open to the public and hosted as an off-site retreat; attendance fees apply.
URL:https://boldchurch.org/event/womens-retreat/
LOCATION:Grandover Resort & Spa\, 1000 Club Road\, Greensboro\, NC\, 27407\, United States
CATEGORIES:Calendar,Conferences & Events
ATTACH;FMTTYPE=image/png:https://boldchurch.org/wp-content/uploads/2025/12/WR26-Media-Presentation.png
END:VEVENT
BEGIN:VEVENT
DTSTART;VALUE=DATE:20260805
DTEND;VALUE=DATE:20260810
DTSTAMP:20260423T031900
CREATED:20260311T194614Z
LAST-MODIFIED:20260311T194614Z
UID:10000552-1785888000-1786319999@boldchurch.org
SUMMARY:Men's Ministry - Fast and Pray
DESCRIPTION:Please check your email for details.
URL:https://boldchurch.org/event/mens-ministry-fast-and-pray/
LOCATION:NC
CATEGORIES:Calendar
END:VEVENT
BEGIN:VEVENT
DTSTART;VALUE=DATE:20260814
DTEND;VALUE=DATE:20260816
DTSTAMP:20260423T031900
CREATED:20251209T204044Z
LAST-MODIFIED:20251209T210929Z
UID:10000479-1786665600-1786838399@boldchurch.org
SUMMARY:Men's Conference 2026
DESCRIPTION:Faith without action is dead. We are not dead but alive—full of light! Drawing from Matthew 5:14–16 (AMPC and MSG)\, Scripture reminds us: “Here’s another way to put it: You’re here to be light\, showing your moral excellence and your praiseworthy\, noble\, and good deeds in the world. God is not a secret to be kept. We’re going public with this\, as public as a city on a hill.” \nIn 2026\, we challenge every man to Be the Man They Need to See—not through words alone\, but through action. Step into your calling\, reflect the light of Christ\, and lead boldly. \n\nAgenda \nFriday\, August 14\, 2026 \n\nOpening Session – 7:00 PM\n\nSaturday\, August 15\, 2026 \n\nBreakfast – 8:00–9:00 AM\nMorning Session – 9:00 AM–12:00 PM\nLunch – 12:30–1:30 PM\nDinner – 6:00–6:45 PM\nClosing Session – 7:00 PM\n\n  \n* Checkout time for all Full Conference Experience guests is 10:00 a.m. on Sunday\, August 16\, 2026. \nRegister Now \n\nAge Requirement \nAll attendees must be 18 years or older. \n\nFee Policy \nThe cost of this event is $300.00 for the Full Conference Experience and $173.00 for Day Guests. A non-refundable deposit of $100.00 is required to register.All balances must be paid in full by July 31\, 2026.No refunds will be issued after July 15\, 2026. \n\nWellness Policy \nThe health and safety of our guests and staff are our highest priority. To help maintain a safe environment: \nIf you have any cold\, flu-like\, fever\, or COVID-related symptoms of any kind\, please exercise caution and do not attend.
URL:https://boldchurch.org/event/mens-conference-2026/
LOCATION:The Cove\, 1 Porters Cove Road\, Asheville\, NC\, 28805\, United States
CATEGORIES:Calendar,Conferences & Events
ATTACH;FMTTYPE=image/png:https://boldchurch.org/wp-content/uploads/2025/12/Men_s-Conference26_Media.png
END:VEVENT
BEGIN:VEVENT
DTSTART;TZID=America/New_York:20260916T183000
DTEND;TZID=America/New_York:20260916T200000
DTSTAMP:20260423T031900
CREATED:20260311T194140Z
LAST-MODIFIED:20260311T194140Z
UID:10000550-1789583400-1789588800@boldchurch.org
SUMMARY:Men's Bible Study
DESCRIPTION:For men age 18 and older. \nNursery\, Children’s Church\, and Youth services will not be available.
URL:https://boldchurch.org/event/mens-bible-study-7/
LOCATION:BOLD Church®\, 2735 West Arrowood Road\, Charlotte\, NC\, 28273\, United States
CATEGORIES:Calendar
END:VEVENT
BEGIN:VEVENT
DTSTART;TZID=America/New_York:20260930T183000
DTEND;TZID=America/New_York:20260930T200000
DTSTAMP:20260423T031900
CREATED:20260422T173345Z
LAST-MODIFIED:20260422T173345Z
UID:10000557-1790793000-1790798400@boldchurch.org
SUMMARY:Singles Bible Study
DESCRIPTION:This Bible Study is for all single adults age 18+. \nThere will no Bible Study for children and youth and child care is not available.
URL:https://boldchurch.org/event/singles-bible-study-2/2026-09-30/
LOCATION:BOLD Church®\, 2735 West Arrowood Road\, Charlotte\, NC\, 28273\, United States
CATEGORIES:Calendar
END:VEVENT
BEGIN:VEVENT
DTSTART;TZID=America/New_York:20261025T110000
DTEND;TZID=America/New_York:20261025T130000
DTSTAMP:20260423T031900
CREATED:20260422T173516Z
LAST-MODIFIED:20260422T173516Z
UID:10000559-1792926000-1792933200@boldchurch.org
SUMMARY:Singles Sunday
DESCRIPTION:This worship service is dedicated to all single adults but all are invited to attend.
URL:https://boldchurch.org/event/singles-sunday-2/
LOCATION:BOLD Church®\, 2735 West Arrowood Road\, Charlotte\, NC\, 28273\, United States
CATEGORIES:Calendar
END:VEVENT
BEGIN:VEVENT
DTSTART;TZID=America/New_York:20261122T140000
DTEND;TZID=America/New_York:20261122T200000
DTSTAMP:20260423T031900
CREATED:20260311T194711Z
LAST-MODIFIED:20260311T194711Z
UID:10000553-1795356000-1795377600@boldchurch.org
SUMMARY:Men's Ministry Event
DESCRIPTION:Please check your email for details.
URL:https://boldchurch.org/event/mens-ministry-event-3/
LOCATION:NC
CATEGORIES:Calendar
END:VEVENT
BEGIN:VEVENT
DTSTART;TZID=America/New_York:20261123T183000
DTEND;TZID=America/New_York:20261123T200000
DTSTAMP:20260423T031900
CREATED:20260422T173345Z
LAST-MODIFIED:20260422T173345Z
UID:10000558-1795458600-1795464000@boldchurch.org
SUMMARY:Singles Bible Study
DESCRIPTION:This Bible Study is for all single adults age 18+. \nThere will no Bible Study for children and youth and child care is not available.
URL:https://boldchurch.org/event/singles-bible-study-2/2026-11-23/
LOCATION:BOLD Church®\, 2735 West Arrowood Road\, Charlotte\, NC\, 28273\, United States
CATEGORIES:Calendar
END:VEVENT
END:VCALENDAR