BEGIN:VCALENDAR
VERSION:2.0
PRODID:-//boldchurch.org - ECPv6.15.17//NONSGML v1.0//EN
CALSCALE:GREGORIAN
METHOD:PUBLISH
X-ORIGINAL-URL:https://boldchurch.org
X-WR-CALDESC:Events for boldchurch.org
REFRESH-INTERVAL;VALUE=DURATION:PT1H
X-Robots-Tag:noindex
X-PUBLISHED-TTL:PT1H
BEGIN:VTIMEZONE
TZID:America/New_York
BEGIN:DAYLIGHT
TZOFFSETFROM:-0500
TZOFFSETTO:-0400
TZNAME:EDT
DTSTART:20250309T070000
END:DAYLIGHT
BEGIN:STANDARD
TZOFFSETFROM:-0400
TZOFFSETTO:-0500
TZNAME:EST
DTSTART:20251102T060000
END:STANDARD
BEGIN:DAYLIGHT
TZOFFSETFROM:-0500
TZOFFSETTO:-0400
TZNAME:EDT
DTSTART:20260308T070000
END:DAYLIGHT
BEGIN:STANDARD
TZOFFSETFROM:-0400
TZOFFSETTO:-0500
TZNAME:EST
DTSTART:20261101T060000
END:STANDARD
BEGIN:DAYLIGHT
TZOFFSETFROM:-0500
TZOFFSETTO:-0400
TZNAME:EDT
DTSTART:20270314T070000
END:DAYLIGHT
BEGIN:STANDARD
TZOFFSETFROM:-0400
TZOFFSETTO:-0500
TZNAME:EST
DTSTART:20271107T060000
END:STANDARD
END:VTIMEZONE
BEGIN:VEVENT
DTSTART;TZID=America/New_York:20260304T183000
DTEND;TZID=America/New_York:20260304T200000
DTSTAMP:20260423T031345
CREATED:20260305T194738Z
LAST-MODIFIED:20260305T195435Z
UID:10000484-1772649000-1772654400@boldchurch.org
SUMMARY:Youth Bible Study
DESCRIPTION:A Heart of Repentance\nA Heart That’s Connected to God \nThis month\, we’re talking about A Heart of Repentance — A Heart That’s Connected to God. We’ll learn that even when a disconnect happens\, God stands ready for us to return to Him through repentance and a renewed commitment. \nAll 6th-12th grade youth are invited out to Impact Youth Bible Study on Wednesdays\, March 4th and 11th at 6:30 p.m. Like a phone that isn’t broken but just needs a charge\, sometimes we simply need to reconnect! Let them get recharged\, revived\, reconnected and renewed through the Word of God at Impact Youth Bible Study. \n  \nReminder: Adult\, Nursery\, and Children’s Church services will not be available.
URL:https://boldchurch.org/event/youth-bible-study-7/2026-03-04/
LOCATION:BOLD Church®\, 2735 West Arrowood Road\, Charlotte\, NC\, 28273\, United States
CATEGORIES:Calendar
END:VEVENT
BEGIN:VEVENT
DTSTART;TZID=America/New_York:20260311T183000
DTEND;TZID=America/New_York:20260311T200000
DTSTAMP:20260423T031345
CREATED:20260305T194738Z
LAST-MODIFIED:20260305T195435Z
UID:10000485-1773253800-1773259200@boldchurch.org
SUMMARY:Youth Bible Study
DESCRIPTION:A Heart of Repentance\nA Heart That’s Connected to God \nThis month\, we’re talking about A Heart of Repentance — A Heart That’s Connected to God. We’ll learn that even when a disconnect happens\, God stands ready for us to return to Him through repentance and a renewed commitment. \nAll 6th-12th grade youth are invited out to Impact Youth Bible Study on Wednesdays\, March 4th and 11th at 6:30 p.m. Like a phone that isn’t broken but just needs a charge\, sometimes we simply need to reconnect! Let them get recharged\, revived\, reconnected and renewed through the Word of God at Impact Youth Bible Study. \n  \nReminder: Adult\, Nursery\, and Children’s Church services will not be available.
URL:https://boldchurch.org/event/youth-bible-study-7/2026-03-11/
LOCATION:BOLD Church®\, 2735 West Arrowood Road\, Charlotte\, NC\, 28273\, United States
CATEGORIES:Calendar
END:VEVENT
BEGIN:VEVENT
DTSTART;TZID=America/New_York:20260318T183000
DTEND;TZID=America/New_York:20260318T200000
DTSTAMP:20260423T031345
CREATED:20260305T201906Z
LAST-MODIFIED:20260309T184508Z
UID:10000546-1773858600-1773864000@boldchurch.org
SUMMARY:Men's Bible Study
DESCRIPTION:Men: Life will test you—but the Word of God has already been tested and proven true! If you are age 18+\, join us for Men’s Bible Study on Wednesday\, March 18th at 6:30 p.m.\, as we break down Psalm 18:30 and learn how God’s perfect way becomes our shield in every battle. \nCome ready to grow\, sharpen\, and stand strong! \n“As for God\, His way is blameless. The word of the Lord is tested [it is perfect\, it is faultless]; He is a shield to all who take refuge in Him.” Psalm 18:30 AMP \n\nReminder: Nursery\, Children’s Church\, and Youth services will not be available.
URL:https://boldchurch.org/event/mens-bible-study-3/
LOCATION:BOLD Church®\, 2735 West Arrowood Road\, Charlotte\, NC\, 28273\, United States
CATEGORIES:Calendar
END:VEVENT
END:VCALENDAR